BEGIN:VCALENDAR
VERSION:2.0
PRODID:-//Shinzen Garden - ECPv6.15.20//NONSGML v1.0//EN
CALSCALE:GREGORIAN
METHOD:PUBLISH
X-ORIGINAL-URL:https://www.shinzenjapanesegarden.org
X-WR-CALDESC:Events for Shinzen Garden
REFRESH-INTERVAL;VALUE=DURATION:PT1H
X-Robots-Tag:noindex
X-PUBLISHED-TTL:PT1H
BEGIN:VTIMEZONE
TZID:UTC
BEGIN:STANDARD
TZOFFSETFROM:+0000
TZOFFSETTO:+0000
TZNAME:UTC
DTSTART:20240101T000000
END:STANDARD
END:VTIMEZONE
BEGIN:VEVENT
DTSTART;TZID=UTC:20250628T100000
DTEND;TZID=UTC:20250628T140000
DTSTAMP:20260425T025823
CREATED:20250210T205820Z
LAST-MODIFIED:20250626T200650Z
UID:10000248-1751104800-1751119200@www.shinzenjapanesegarden.org
SUMMARY:Art in the Garden
DESCRIPTION:Experience the beauty of art and nature intertwined at Art in the Garden\, a unique strolling art show set in the serene surroundings of Shinzen Garden. Local artists will showcase their work throughout the garden\, creating a peaceful and inspiring outdoor gallery for the community to explore. \nAs you stroll through the pathways\, enjoy a diverse collection of paintings\, photography\, ceramics\, and more\, all celebrating the harmony of art and the natural world. Meet the artists\, gain insight into their creative process\, and immerse yourself in a day of artistic discovery. \nCome wander\, appreciate\, and be inspired by the creativity blooming in the garden!  Free with paid garden admission ($5 per adult | $1 per child – purchased at the gate)
URL:https://www.shinzenjapanesegarden.org/event/art-in-the-garden/
LOCATION:Shinzen Friendship Garden\, 114 W Audubon Drive\, Fresno\, CA\, 93720\, United States
CATEGORIES:Family Fun,Garden Events,Special Programs
ATTACH;FMTTYPE=image/jpeg:https://www.shinzenjapanesegarden.org/wp-content/uploads/2025/02/Art-in-the-Garden-Art-Show-June-28-1.jpg
ORGANIZER;CN="Shinzen Friendship Garden":MAILTO:info@shinzenjapanesegarden.org
END:VEVENT
BEGIN:VEVENT
DTSTART;TZID=UTC:20250628T110000
DTEND;TZID=UTC:20250628T130000
DTSTAMP:20260425T025823
CREATED:20250519T153931Z
LAST-MODIFIED:20250519T214211Z
UID:10000386-1751108400-1751115600@www.shinzenjapanesegarden.org
SUMMARY:Whispers of the Bamboo: Reflective Writing Workshop
DESCRIPTION:Creative Writing Workshop \nWhispers of the Bamboo: Reflective Writing Workshop \nThis creative writing workshop will focus on journaling\, memoir writing and mindfulness-based storytelling. Participants will engage in guided reflections and writing exercises to deepen their connection with nature and their personal experiences. \n$25 for members | $45 for non-members \nSuitable for ages 12+
URL:https://www.shinzenjapanesegarden.org/event/whispers-of-the-bamboo-reflective-writing-workshop/
LOCATION:Shinzen Friendship Garden\, 114 W Audubon Drive\, Fresno\, CA\, 93720\, United States
CATEGORIES:Classes,Special Programs,Workshops
ATTACH;FMTTYPE=image/jpeg:https://www.shinzenjapanesegarden.org/wp-content/uploads/2025/05/Writing-Workshop-Whispers-of-the-Bambook.jpg
ORGANIZER;CN="Shinzen Friendship Garden":MAILTO:info@shinzenjapanesegarden.org
END:VEVENT
END:VCALENDAR