BEGIN:VCALENDAR
VERSION:2.0
PRODID:-//Shinzen Garden - ECPv6.15.20//NONSGML v1.0//EN
CALSCALE:GREGORIAN
METHOD:PUBLISH
X-ORIGINAL-URL:https://www.shinzenjapanesegarden.org
X-WR-CALDESC:Events for Shinzen Garden
REFRESH-INTERVAL;VALUE=DURATION:PT1H
X-Robots-Tag:noindex
X-PUBLISHED-TTL:PT1H
BEGIN:VTIMEZONE
TZID:UTC
BEGIN:STANDARD
TZOFFSETFROM:+0000
TZOFFSETTO:+0000
TZNAME:UTC
DTSTART:20240101T000000
END:STANDARD
END:VTIMEZONE
BEGIN:VEVENT
DTSTART;TZID=UTC:20250927T090000
DTEND;TZID=UTC:20250928T150000
DTSTAMP:20260422T132322
CREATED:20250819T210204Z
LAST-MODIFIED:20250819T210344Z
UID:10000398-1758963600-1759071600@www.shinzenjapanesegarden.org
SUMMARY:Fresno Koi Show
DESCRIPTION:Fresno Koi Show hosted by the Central California Koi Society\nSeptember 27 & 28\, 2025 inside the Woodward Park Group Activities Area\nThe Fresno Koi Show is one of the longest-running events of its kind in the Nation. Local and out-of-area hobbyists and enthusiasts exhibit their prized koi fish and share their passion and knowledge with the public. The koi fish exhibited in competition at the Fresno Koi Show range in size from about 6 to 36 inches long and can be of superb quality. Hundreds of koi fish will be for sale at the Fresno Koi Show from local and state vendors. Many koi are imported directly from top breeders in Japan. \nVendors will offer koi food and products\, art\, unique home décor\, gift items\, and local food trucks with food available for purchase. Koi and non-koi related items will also be raffled or available for bidding in a silent auction. \nWith over 1\,500 people in attendance each year\, this highly anticipated and fun event is the only fundraiser hosted by CCKS each year. Proceeds are used to host the show and to continue the centuries of tradition\, art\, and culture of koi and pond keeping flourishing in our community. \nLearn More at CenCalKoi.com \n  \n 
URL:https://www.shinzenjapanesegarden.org/event/fresno-koi-show/
LOCATION:Woodward Park\, Activities Area\, 114 W Audubon Drive\, Fresno\, CA\, 93720
CATEGORIES:Family Fun,Special Programs
ATTACH;FMTTYPE=image/jpeg:https://www.shinzenjapanesegarden.org/wp-content/uploads/2025/08/Fresno-Koi-Society-Koi-Show.jpg
END:VEVENT
BEGIN:VEVENT
DTSTART;TZID=UTC:20250927T103000
DTEND;TZID=UTC:20250927T123000
DTSTAMP:20260422T132322
CREATED:20250328T213544Z
LAST-MODIFIED:20250819T175218Z
UID:10000371-1758969000-1758976200@www.shinzenjapanesegarden.org
SUMMARY:Flowering Fins: Painting Koi in Watercolor Class
DESCRIPTION:Dive into the graceful beauty of koi fish with Flowering Fins: Painting Koi in Watercolor\, an inspiring watercolor workshop as we explore the graceful beauty of koi fish! \nIn this two-hour class\, you’ll explore the fluid nature of watercolor as you bring these graceful fish to life. Led by talented local artist Noelle Correia\, this class will guide you through the process of capturing the flowing fins\, vibrant colors\, and delicate movement of these symbolic fish. \nPerfect for beginners and experienced artists alike\, this workshop will cover essential watercolor techniques\, including layering\, blending\, and creating fluid\, organic shapes. We’ll also explore composition and the symbolic meanings of koi\, adding depth to your artistic expression. \nCome relax\, paint\, and immerse yourself in the tranquil world of koi. All materials will be provided—just bring your creativity! \nSpaces are limited—reserve your spot today! \n$35 for Member | $45 for Non-members | For ages 15+
URL:https://www.shinzenjapanesegarden.org/event/flowering-fins-painting-koi-in-watercolor-class/
LOCATION:Shinzen Friendship Garden\, 114 W Audubon Drive\, Fresno\, CA\, 93720\, United States
CATEGORIES:Classes,Garden Events,Special Programs
ATTACH;FMTTYPE=image/jpeg:https://www.shinzenjapanesegarden.org/wp-content/uploads/2025/03/Flowering-Fins-Koi-Watercolor-Class.jpg
ORGANIZER;CN="Shinzen Friendship Garden":MAILTO:info@shinzenjapanesegarden.org
END:VEVENT
END:VCALENDAR