BEGIN:VCALENDAR
VERSION:2.0
PRODID:-//Shinzen Garden - ECPv6.15.20//NONSGML v1.0//EN
CALSCALE:GREGORIAN
METHOD:PUBLISH
X-WR-CALNAME:Shinzen Garden
X-ORIGINAL-URL:https://www.shinzenjapanesegarden.org
X-WR-CALDESC:Events for Shinzen Garden
REFRESH-INTERVAL;VALUE=DURATION:PT1H
X-Robots-Tag:noindex
X-PUBLISHED-TTL:PT1H
BEGIN:VTIMEZONE
TZID:UTC
BEGIN:STANDARD
TZOFFSETFROM:+0000
TZOFFSETTO:+0000
TZNAME:UTC
DTSTART:20250101T000000
END:STANDARD
END:VTIMEZONE
BEGIN:VEVENT
DTSTART;TZID=UTC:20260815T160000
DTEND;TZID=UTC:20260815T210000
DTSTAMP:20260425T035929
CREATED:20260421T201920Z
LAST-MODIFIED:20260421T203359Z
UID:10000453-1786809600-1786827600@www.shinzenjapanesegarden.org
SUMMARY:Toro Nagashi 2026
DESCRIPTION:In the spirit of the Japanese ceremony Tōrō Nagashi\, please join Shinzen Garden for our 41st annual floating lantern celebration on Saturday\, August 15\, 2026 \nTraditionally\, this Japanese ceremony honors the memory of loved ones. During the festival of Obon\, it is believed that ancestors come back to spend time with the living. On the final evening of the festival\, paper lanterns are set afloat to accompany the spirits as they depart for another year. \nGET YOUR LANTERNS HERE\nPhoto courtesy of Ryan Watamura Photography
URL:https://www.shinzenjapanesegarden.org/event/toro-nagashi-2026/
CATEGORIES:Cultural Demonstrations,Garden Events,Special Programs
ATTACH;FMTTYPE=image/jpeg:https://www.shinzenjapanesegarden.org/wp-content/uploads/2026/04/Toro-Nagashi-August-15-2026.jpg
END:VEVENT
END:VCALENDAR