BEGIN:VCALENDAR
VERSION:2.0
PRODID:-//Shinzen Garden - ECPv6.15.20//NONSGML v1.0//EN
CALSCALE:GREGORIAN
METHOD:PUBLISH
X-ORIGINAL-URL:https://www.shinzenjapanesegarden.org
X-WR-CALDESC:Events for Shinzen Garden
REFRESH-INTERVAL;VALUE=DURATION:PT1H
X-Robots-Tag:noindex
X-PUBLISHED-TTL:PT1H
BEGIN:VTIMEZONE
TZID:UTC
BEGIN:STANDARD
TZOFFSETFROM:+0000
TZOFFSETTO:+0000
TZNAME:UTC
DTSTART:20250101T000000
END:STANDARD
END:VTIMEZONE
BEGIN:VEVENT
DTSTART;TZID=UTC:20260418T110000
DTEND;TZID=UTC:20260418T130000
DTSTAMP:20260425T032201
CREATED:20260114T221947Z
LAST-MODIFIED:20260210T214658Z
UID:10000417-1776510000-1776517200@www.shinzenjapanesegarden.org
SUMMARY:April Botanical Watercolor
DESCRIPTION:Slow down\, look closely\, and let nature guide your brush. In this botanical watercolor class at Shinzen Garden on April 18\, 2026\, participants will explore the delicate beauty of leaves\, flowers\, and seasonal plant life while learning foundational watercolor techniques in a serene garden setting. Whether you’re a beginner or a seasoned artist\, this class offers gentle instruction\, creative freedom\, and plenty of inspiration drawn directly from the garden around you. Come paint\, relax\, and leave with a finished piece that captures a moment of Shinzen’s natural beauty. Supplies included with registration. \nPre-registration is required. \n  \nMeet your instructor: Noelle Correia – Born under a full moon in Scorpio in Fresno\, California\, after spending time tinkering around at her father’s auto repair/welding shop as a child\, Noelle began to create an imaginary world out of carpenter’s chalk drawings of discarded car parts. This world turned the industrial environment of downtown Fresno into a delusional paradise. Noelle left Fresno at eighteen but took her imaginary world with her and continues to process the nuance and grit of everyday cultural collision through fluvial imagery. \nHer creative process begins with color. Noelle is inspired by how the color schemes pop in biodiversity\, such as a poisonous dart frog’s epidermal layers resting on a muted green leaf. The biodiverse thread within her creative practice is that of Botanical Surrealism. She begins her work by thinking about the relationship between emotions and color and allows color theory to drive the outcome. Symbols that represent the feminine mystique and practical magic are a reoccurring thematic backdrop. The process has become a life metaphor in which she works through obstacles\, obtains epiphanies\, and understands herself as a tiny part of a much larger whole. \nShe conveys the beauty and complexities of human nature using texture\, pattern\, and narrative elements throughout her work. Her work has been exhibited in California Galleries and collectives exhibitions\, including Radius Gallery\, The Art Cave\, The Art League of Santa Cruz County\, Pajaro Valley Arts Gallery\, and Arte Americas. Noelle’s work further explores the botanical world through watercolor painting\, paper-cut collage practices\, and encaustic medium. Through wax\, water\, and human narratives of all kinds\, Noelle creates a vibrant play on color and form.
URL:https://www.shinzenjapanesegarden.org/event/april-botanical-watercolor/
LOCATION:Shinzen Friendship Garden\, 114 W Audubon Drive\, Fresno\, CA\, 93720\, United States
CATEGORIES:Classes,Garden Events,Workshops
ATTACH;FMTTYPE=image/jpeg:https://www.shinzenjapanesegarden.org/wp-content/uploads/2026/01/Botanical-Watercolor-1.jpg
ORGANIZER;CN="Shinzen Friendship Garden":MAILTO:info@shinzenjapanesegarden.org
END:VEVENT
END:VCALENDAR