BEGIN:VCALENDAR
VERSION:2.0
PRODID:-//Shinzen Garden - ECPv6.15.20//NONSGML v1.0//EN
CALSCALE:GREGORIAN
METHOD:PUBLISH
X-ORIGINAL-URL:https://www.shinzenjapanesegarden.org
X-WR-CALDESC:Events for Shinzen Garden
REFRESH-INTERVAL;VALUE=DURATION:PT1H
X-Robots-Tag:noindex
X-PUBLISHED-TTL:PT1H
BEGIN:VTIMEZONE
TZID:UTC
BEGIN:STANDARD
TZOFFSETFROM:+0000
TZOFFSETTO:+0000
TZNAME:UTC
DTSTART:20240101T000000
END:STANDARD
END:VTIMEZONE
BEGIN:VEVENT
DTSTART;TZID=UTC:20251115T150000
DTEND;TZID=UTC:20251115T170000
DTSTAMP:20260422T045322
CREATED:20251016T165130Z
LAST-MODIFIED:20251113T173038Z
UID:10000410-1763218800-1763226000@www.shinzenjapanesegarden.org
SUMMARY:Seasons of Verse - November Poetry Series
DESCRIPTION:THIS EVENT HAS BEEN POSTPONED DUE TO WEATHER. NEW DATE TO BE ANNOUNCED SOON\nSeasons of Verse is a curated poetry reading series held inside the peaceful landscape of Shinzen Garden\, featuring four unique events that align with the rhythm of the seasons. The series will showcase the vibrant voices of Fresno-area poets and offer one open mic event to welcome emerging and community writers. \nIncluded with Garden Admission \n 
URL:https://www.shinzenjapanesegarden.org/event/seasons-of-verse-november-poetry-series/
LOCATION:Shinzen Friendship Garden\, 114 W Audubon Drive\, Fresno\, CA\, 93720\, United States
CATEGORIES:Family Fun,Garden Events,Special Programs
ATTACH;FMTTYPE=image/jpeg:https://www.shinzenjapanesegarden.org/wp-content/uploads/2025/10/Seasons-of-Verse-Nov-15-1.jpg
ORGANIZER;CN="Shinzen Friendship Garden":MAILTO:info@shinzenjapanesegarden.org
END:VEVENT
BEGIN:VEVENT
DTSTART;TZID=UTC:20251123T100000
DTEND;TZID=UTC:20251123T120000
DTSTAMP:20260422T045322
CREATED:20251104T182843Z
LAST-MODIFIED:20251119T221627Z
UID:10000412-1763892000-1763899200@www.shinzenjapanesegarden.org
SUMMARY:Autumn Color Viewing
DESCRIPTION:We invite you to experience the breathtaking beauty of Shinzen Garden’s fall colors. Enjoy a peaceful stroll among the Japanese maples with a warm cup of tea and a traditional Japanese rice cracker during our Autumn Color viewing. \nSunday\, November 23\, 2025 \n10:00 am – Noon \nThis event is included with paid garden admission. Garden admission is $5 per adult and $1 per child
URL:https://www.shinzenjapanesegarden.org/event/autumn-color-viewing/
LOCATION:Shinzen Friendship Garden\, 114 W Audubon Drive\, Fresno\, CA\, 93720\, United States
CATEGORIES:Cultural Demonstrations,Family Fun,Special Programs
ATTACH;FMTTYPE=image/jpeg:https://www.shinzenjapanesegarden.org/wp-content/uploads/2025/11/Autumn-Color-Viewing-Nov-23.jpg
ORGANIZER;CN="Shinzen Friendship Garden":MAILTO:info@shinzenjapanesegarden.org
END:VEVENT
END:VCALENDAR