BEGIN:VCALENDAR
VERSION:2.0
PRODID:-//Shinzen Garden - ECPv6.15.20//NONSGML v1.0//EN
CALSCALE:GREGORIAN
METHOD:PUBLISH
X-WR-CALNAME:Shinzen Garden
X-ORIGINAL-URL:https://www.shinzenjapanesegarden.org
X-WR-CALDESC:Events for Shinzen Garden
REFRESH-INTERVAL;VALUE=DURATION:PT1H
X-Robots-Tag:noindex
X-PUBLISHED-TTL:PT1H
BEGIN:VTIMEZONE
TZID:UTC
BEGIN:STANDARD
TZOFFSETFROM:+0000
TZOFFSETTO:+0000
TZNAME:UTC
DTSTART:20250101T000000
END:STANDARD
END:VTIMEZONE
BEGIN:VEVENT
DTSTART;TZID=UTC:20260308T110000
DTEND;TZID=UTC:20260308T120000
DTSTAMP:20260422T172751
CREATED:20260210T185203Z
LAST-MODIFIED:20260306T220826Z
UID:10000442-1772967600-1772971200@www.shinzenjapanesegarden.org
SUMMARY:Japanese Tea Ceremony Demonstration
DESCRIPTION:Experience a Traditional Japanese Tea Ceremony at Shinzen Garden \nImmerse yourself in the tranquil beauty of Shinzen Garden as we present a traditional Japanese Tea Ceremony on Sunday\, March 8\, 2026 at 11:00 am.  This unique cultural experience offers guests an opportunity to witness the graceful art of tea preparation and savor matcha in a serene setting. \nJoin us for an unforgettable journey into the elegance and mindfulness of Japanese tradition. Space is limited\, so reserve your seat today! \nTicket holders are invited to observe the peace and quietude of this traditional Japanese Tea Ceremony and enjoy a cup of green tea and a Japanese sweet. \n*THIS TICKET IS FOR THE 11:00 am DEMONSTRATION \nThe tea ceremony (called cha-no-yu\, sadō\, or chadō in Japanese) incorporates strict etiquette\, which serves as the foundation of its choreographed movements and gives the experience its overall form and aesthetic. Participants are meant to involve all of the senses and experience a serene feeling of spiritual discipline\, harmony and tranquility. There are many schools of tea ceremony\, but here at Shinzen Garden\, guests will experience the Omote-Senke style. The Omote-Senke school is one of three san-senke schools whose founding tea master is Sen no Rikyū. Each school has subtle stylistic differences and varying techniques\, but the Omote-Senke school is distinguished by its tea whisking style and the thin foam created by this technique. \nOur tea ceremony will be performed by Terumi Takahashi\, trained by the School of Omeote-Senke in Kyoto\, Japan. \n  \nEach registration directly supports the care\, preservation\, and cultural programming of Shinzen Garden\, helping this special place continue to thrive.
URL:https://www.shinzenjapanesegarden.org/event/japanese-tea-ceremony-demonstration/
LOCATION:Shinzen Friendship Garden\, 114 W Audubon Drive\, Fresno\, CA\, 93720\, United States
CATEGORIES:Cultural Demonstrations,Garden Events,Special Programs,Tea Ceremony
ATTACH;FMTTYPE=image/jpeg:https://www.shinzenjapanesegarden.org/wp-content/uploads/2026/02/Japanese-Tea-Ceremony-March-8-1.jpg
ORGANIZER;CN="Shinzen Friendship Garden":MAILTO:info@shinzenjapanesegarden.org
END:VEVENT
BEGIN:VEVENT
DTSTART;TZID=UTC:20260308T133000
DTEND;TZID=UTC:20260308T143000
DTSTAMP:20260422T172751
CREATED:20260210T185710Z
LAST-MODIFIED:20260306T221014Z
UID:10000443-1772976600-1772980200@www.shinzenjapanesegarden.org
SUMMARY:Japanese Tea Ceremony Demonstration 1:30 Seating
DESCRIPTION:Experience a Traditional Japanese Tea Ceremony at Shinzen Garden \nImmerse yourself in the tranquil beauty of Shinzen Garden as we present a traditional Japanese Tea Ceremony on Sunday\, March 8\, 2026 at 1:30 pm.  This unique cultural experience offers guests an opportunity to witness the graceful art of tea preparation and savor matcha in a serene setting. \nJoin us for an unforgettable journey into the elegance and mindfulness of Japanese tradition. Space is limited\, so reserve your seat today! \nTicket holders are invited to observe the peace and quietude of this traditional Japanese Tea Ceremony and enjoy a cup of green tea and a Japanese sweet. \n*THIS TICKET IS FOR THE 1:30 pm DEMONSTRATION \nThe tea ceremony (called cha-no-yu\, sadō\, or chadō in Japanese) incorporates strict etiquette\, which serves as the foundation of its choreographed movements and gives the experience its overall form and aesthetic. Participants are meant to involve all of the senses and experience a serene feeling of spiritual discipline\, harmony and tranquility. There are many schools of tea ceremony\, but here at Shinzen Garden\, guests will experience the Omote-Senke style. The Omote-Senke school is one of three san-senke schools whose founding tea master is Sen no Rikyū. Each school has subtle stylistic differences and varying techniques\, but the Omote-Senke school is distinguished by its tea whisking style and the thin foam created by this technique. \nOur tea ceremony will be performed by Terumi Takahashi\, trained by the School of Omeote-Senke in Kyoto\, Japan. \n  \nEach registration directly supports the care\, preservation\, and cultural programming of Shinzen Garden\, helping this special place continue to thrive.
URL:https://www.shinzenjapanesegarden.org/event/japanese-tea-ceremony-demonstration-130-seating/
LOCATION:Shinzen Friendship Garden\, 114 W Audubon Drive\, Fresno\, CA\, 93720\, United States
CATEGORIES:Cultural Demonstrations,Garden Events,Special Programs,Tea Ceremony
ATTACH;FMTTYPE=image/jpeg:https://www.shinzenjapanesegarden.org/wp-content/uploads/2026/02/Japanese-Tea-Ceremony-March-8.jpg
ORGANIZER;CN="Shinzen Friendship Garden":MAILTO:info@shinzenjapanesegarden.org
END:VEVENT
BEGIN:VEVENT
DTSTART;TZID=UTC:20260321T090000
DTEND;TZID=UTC:20260321T100000
DTSTAMP:20260422T172751
CREATED:20260115T225935Z
LAST-MODIFIED:20260309T165812Z
UID:10000424-1774083600-1774087200@www.shinzenjapanesegarden.org
SUMMARY:Soundbath at the Garden
DESCRIPTION:Unwind beneath the open sky with a deeply restorative Sound Bath set within the tranquil beauty of Shinzen Garden. Surrounded by nature\, you’ll be guided through a meditative experience using soothing tones and gentle vibrations designed to calm the mind\, relax the body\, and restore balance. As the sounds wash over you\, stress melts away and a sense of deep peace takes its place. This is an invitation to slow down\, breathe deeply\, and reconnect—with yourself and the serenity of the garden. \nPre-registration is required. \nPlease bring a yoga mat or blanket and a pillow to participate. \n  \nMeet the Instructor: Sounds of the Light \nEach registration directly supports the care\, preservation\, and cultural programming of Shinzen Garden\, helping this special place continue to thrive.
URL:https://www.shinzenjapanesegarden.org/event/soundbath-at-garden/
LOCATION:Shinzen Friendship Garden\, 114 W Audubon Drive\, Fresno\, CA\, 93720\, United States
CATEGORIES:Classes,Garden Events,Special Programs,Workshops
ATTACH;FMTTYPE=image/jpeg:https://www.shinzenjapanesegarden.org/wp-content/uploads/2026/01/Soundbath.jpg
ORGANIZER;CN="Shinzen Friendship Garden":MAILTO:info@shinzenjapanesegarden.org
END:VEVENT
BEGIN:VEVENT
DTSTART;TZID=UTC:20260321T130000
DTEND;TZID=UTC:20260321T150000
DTSTAMP:20260422T172751
CREATED:20260120T180352Z
LAST-MODIFIED:20260225T223921Z
UID:10000427-1774098000-1774105200@www.shinzenjapanesegarden.org
SUMMARY:Seasons of Stories Book Club March Meeting
DESCRIPTION:MARCH 2026 BOOK SELECTION\n\nMs. Ice Sandwich\nby: Mieko Kawakami\n  \n \nIn her English language debut\, “ceaselessly growing and evolving”novelist Mieko Kawakami renders an adolsecent voice with laser precision (Haruki Murakami). \n“Ms Ice Sandwich” is a name I made up\, of course. I thought of it the minute I first saw her. Ms Ice Sandwich’s eyelids are always painted with a thick layer of a kind of electric blue\, exactly the same colour as those hard ice lollies that have been sitting in our freezer since last summer. \nA young boy returns obsessively to a supermarket sandwich counter\, entranced by the beauty of the woman who works there. Her aloof demeanour and electric blue eyelids make him feel the most intense joy he’s ever known. He calls her Ms Ice Sandwich\, and he wants nothing more than to spend his days watching her coolly slip sandwiches into bags. \nBut the complexities of life keep getting in the way – his beloved grandmother’s illness is only getting worse\, and his mother seems to be totally ignoring it. There’s also his faltering friendship with his classmate Tutti. As she invites him to join her in thrilling games and fantasy\, the boy begins to enter a whole new world of imagination. \nWry\, intimate and wonderfully skewed\, Ms Ice Sandwich is a poignant depiction of the naivety and wisdom of youth\, just as it is passing. \n  \n  \n  \n  \nORDER THE BOOK HERE\n  \nSeasons of Stories is a new book club at Shinzen Garden that invites readers to gather in the natural setting of the garden to explore literature inspired by Japanese culture and explore books from Japanese American authors.  We will be diving into a thoughtfully selected book each month and enjoy meaningful conversations surrounded by the beauty of the garden. All are welcome—bring your curiosity and love for stories! \nJoin our online club by scanning the QR Code\n \n 
URL:https://www.shinzenjapanesegarden.org/event/seasons-of-stories-book-club-march1-meeting/
LOCATION:Shinzen Friendship Garden\, 114 W Audubon Drive\, Fresno\, CA\, 93720\, United States
CATEGORIES:Garden Events,Special Programs
ATTACH;FMTTYPE=image/jpeg:https://www.shinzenjapanesegarden.org/wp-content/uploads/2026/01/March-2026-BookClub.jpg
ORGANIZER;CN="Shinzen Friendship Garden":MAILTO:info@shinzenjapanesegarden.org
END:VEVENT
END:VCALENDAR