BEGIN:VCALENDAR
VERSION:2.0
PRODID:-//Shinzen Garden - ECPv6.15.20//NONSGML v1.0//EN
CALSCALE:GREGORIAN
METHOD:PUBLISH
X-ORIGINAL-URL:https://www.shinzenjapanesegarden.org
X-WR-CALDESC:Events for Shinzen Garden
REFRESH-INTERVAL;VALUE=DURATION:PT1H
X-Robots-Tag:noindex
X-PUBLISHED-TTL:PT1H
BEGIN:VTIMEZONE
TZID:UTC
BEGIN:STANDARD
TZOFFSETFROM:+0000
TZOFFSETTO:+0000
TZNAME:UTC
DTSTART:20240101T000000
END:STANDARD
END:VTIMEZONE
BEGIN:VEVENT
DTSTART;TZID=UTC:20250809T103000
DTEND;TZID=UTC:20250809T120000
DTSTAMP:20260424T121446
CREATED:20250722T164627Z
LAST-MODIFIED:20250722T164627Z
UID:10000394-1754735400-1754740800@www.shinzenjapanesegarden.org
SUMMARY:Hiroshima and Nagasaki Remembrance Ceremony
DESCRIPTION:Join us at Shinzen Garden for the 80th Commemoration Ceremony of the Hiroshima and Nagasaki bombings—a solemn tribute to peace\, remembrance\, and resilience. Through reflection\, music\, and community\, we honor the lives lost and renew our commitment to a more compassionate world. \nAll are welcome to share in this moment of unity and hope.
URL:https://www.shinzenjapanesegarden.org/event/hiroshima-and-nagasaki-remembrance-ceremony/
LOCATION:Shinzen Friendship Garden\, 114 W Audubon Drive\, Fresno\, CA\, 93720\, United States
CATEGORIES:Garden Events,Special Programs
ATTACH;FMTTYPE=image/jpeg:https://www.shinzenjapanesegarden.org/wp-content/uploads/2025/07/Hiroshima-Nagasaki-Commemoration-Event-aug-9-2025.jpg
ORGANIZER;CN="Shinzen Friendship Garden":MAILTO:info@shinzenjapanesegarden.org
END:VEVENT
BEGIN:VEVENT
DTSTART;TZID=UTC:20250719T130000
DTEND;TZID=UTC:20250719T150000
DTSTAMP:20260424T121446
CREATED:20250624T180117Z
LAST-MODIFIED:20250624T180355Z
UID:10000390-1752930000-1752937200@www.shinzenjapanesegarden.org
SUMMARY:Seasons of Stories Book Club July Meeting
DESCRIPTION:JULY BOOK SELECTION\nFacing the Mountain: An inspiring Story of Japanese American Patriots in World War II\nBy Daniel James Brown\n \nIn the days and months after Pearl Harbor\, the lives of Japanese Americans across the continent and Hawaii were changed forever. In this unforgettable chronicle of war-time America and the battlefields of Europe\, Daniel James Brown portrays the journey of Rudy Tokiwa\, Fred Shiosaki\, and Kats Miho\, who volunteered for the 442nd Regimental Combat Team and were deployed to France\, Germany\, and Italy\, where they were asked to do the near impossible. \nBrown also tells the story of these soldiers’ parents\, immigrants who were forced to submit to life in concentration camps on U.S. soil. Woven throughout is the chronicle of Gordon Hirabayashi\, one of a cadre of patriotic resisters who stood up against their government in defense of their own rights. \nWhether fighting on battlefields or in courtrooms\, these were Americans under unprecedented strain\, doing what Americans do best—striving\, resisting\, pushing back\, rising up\, standing on principle\, laying down their lives\, and enduring. \n  \n  \n  \n  \n  \nSeasons of Stories is a new book club at Shinzen Garden that invites readers to gather in the natural setting of the garden to explore literature inspired by Japanese culture and explore books from Japanese American authors.  We will be diving into a thoughtfully selected book each month and enjoy meaningful conversations surrounded by the beauty of the garden. All are welcome—bring your curiosity and love for stories! \nJoin our online club by scanning the QR Code
URL:https://www.shinzenjapanesegarden.org/event/seasons-of-stories-book-club-july-meeting/
LOCATION:Virtual
CATEGORIES:Garden Events,Special Programs
ATTACH;FMTTYPE=image/jpeg:https://www.shinzenjapanesegarden.org/wp-content/uploads/2025/06/Seasons-of-Stories-Bookclub-July-19.jpg
ORGANIZER;CN="Shinzen Friendship Garden":MAILTO:info@shinzenjapanesegarden.org
END:VEVENT
BEGIN:VEVENT
DTSTART;TZID=UTC:20250628T100000
DTEND;TZID=UTC:20250628T140000
DTSTAMP:20260424T121446
CREATED:20250210T205820Z
LAST-MODIFIED:20250626T200650Z
UID:10000248-1751104800-1751119200@www.shinzenjapanesegarden.org
SUMMARY:Art in the Garden
DESCRIPTION:Experience the beauty of art and nature intertwined at Art in the Garden\, a unique strolling art show set in the serene surroundings of Shinzen Garden. Local artists will showcase their work throughout the garden\, creating a peaceful and inspiring outdoor gallery for the community to explore. \nAs you stroll through the pathways\, enjoy a diverse collection of paintings\, photography\, ceramics\, and more\, all celebrating the harmony of art and the natural world. Meet the artists\, gain insight into their creative process\, and immerse yourself in a day of artistic discovery. \nCome wander\, appreciate\, and be inspired by the creativity blooming in the garden!  Free with paid garden admission ($5 per adult | $1 per child – purchased at the gate)
URL:https://www.shinzenjapanesegarden.org/event/art-in-the-garden/
LOCATION:Shinzen Friendship Garden\, 114 W Audubon Drive\, Fresno\, CA\, 93720\, United States
CATEGORIES:Family Fun,Garden Events,Special Programs
ATTACH;FMTTYPE=image/jpeg:https://www.shinzenjapanesegarden.org/wp-content/uploads/2025/02/Art-in-the-Garden-Art-Show-June-28-1.jpg
ORGANIZER;CN="Shinzen Friendship Garden":MAILTO:info@shinzenjapanesegarden.org
END:VEVENT
BEGIN:VEVENT
DTSTART;TZID=UTC:20250622T170000
DTEND;TZID=UTC:20250622T190000
DTSTAMP:20260424T121446
CREATED:20250618T202804Z
LAST-MODIFIED:20250618T202804Z
UID:10000389-1750611600-1750618800@www.shinzenjapanesegarden.org
SUMMARY:Seasons of Verse - Poetry at the Garden
DESCRIPTION:Seasons of Verse is a curated poetry reading series held inside the peaceful landscape of Shinzen Garden\, featuring four unique events that align with the rhythm of the seasons. The series will showcase the vibrant voices of Fresno-area poets and offer one open mic event to welcome emerging and community writers. \nIncluded with paid Garden Admission \nMeet Our Poets: \nDr. Asia Smith \nMike Cantu \nBeatrice Valenzuela \nCeleste Jones \n 
URL:https://www.shinzenjapanesegarden.org/event/seasons-of-verse-poetry-at-the-garden/
LOCATION:Shinzen Friendship Garden\, 114 W Audubon Drive\, Fresno\, CA\, 93720\, United States
CATEGORIES:Family Fun,Garden Events,Special Programs
ATTACH;FMTTYPE=image/jpeg:https://www.shinzenjapanesegarden.org/wp-content/uploads/2025/06/Seasons-of-Verse-June-22.jpg
ORGANIZER;CN="Shinzen Friendship Garden":MAILTO:info@shinzenjapanesegarden.org
END:VEVENT
BEGIN:VEVENT
DTSTART;TZID=UTC:20250621T130000
DTEND;TZID=UTC:20250621T150000
DTSTAMP:20260424T121446
CREATED:20250418T171524Z
LAST-MODIFIED:20250418T171704Z
UID:10000383-1750510800-1750518000@www.shinzenjapanesegarden.org
SUMMARY:Seasons of Stories Book Club Launch
DESCRIPTION:  \nSeasons of Stories is a new book club at Shinzen Garden that invites readers to gather in the natural setting of the garden to explore literature inspired by Japanese culture and explore books from Japanese American authors.  We will be diving into a thoughtfully selected book each month and enjoy meaningful conversations surrounded by the beauty of the garden. All are welcome—bring your curiosity and love for stories! \nJoin our online club by scanning the QR Code
URL:https://www.shinzenjapanesegarden.org/event/seasons-of-stories-book-club-launch/
LOCATION:Shinzen Friendship Garden\, 114 W Audubon Drive\, Fresno\, CA\, 93720\, United States
CATEGORIES:Garden Events,Special Programs
ATTACH;FMTTYPE=image/jpeg:https://www.shinzenjapanesegarden.org/wp-content/uploads/2025/04/Seasons-of-Stories-Bookclub-1.jpg
ORGANIZER;CN="Shinzen Friendship Garden":MAILTO:info@shinzenjapanesegarden.org
END:VEVENT
BEGIN:VEVENT
DTSTART;TZID=UTC:20250614T100000
DTEND;TZID=UTC:20250614T113000
DTSTAMP:20260424T121446
CREATED:20250402T204423Z
LAST-MODIFIED:20250604T160912Z
UID:10000377-1749895200-1749900600@www.shinzenjapanesegarden.org
SUMMARY:Free Garden Tour on June 14 at 10am
DESCRIPTION:  \nJoin us for a free docent-led tour on select weekends\, providing visitors with an in-depth exploration of its serene landscapes and cultural significance.  During the tour\, our knowledgeable docents guide guests through the garden’s features\, including the Clark Bonsai Collection\, stroll gardens\, traditional architecture\, and tea houses\, offering insights into Japanese culture and garden design. \nThe tours are approximately 1.5 hours long and free to the public with paid garden entry.
URL:https://www.shinzenjapanesegarden.org/event/free-garden-tour-on-june-14-at-10am/
LOCATION:Shinzen Friendship Garden\, 114 W Audubon Drive\, Fresno\, CA\, 93720\, United States
CATEGORIES:Family Fun,Garden Events,Special Programs
ATTACH;FMTTYPE=image/jpeg:https://www.shinzenjapanesegarden.org/wp-content/uploads/2025/06/Garden-Tour-June-14-10-am.jpg
ORGANIZER;CN="Shinzen Friendship Garden":MAILTO:info@shinzenjapanesegarden.org
END:VEVENT
BEGIN:VEVENT
DTSTART;TZID=UTC:20250517T110000
DTEND;TZID=UTC:20250517T130000
DTSTAMP:20260424T121446
CREATED:20250411T183322Z
LAST-MODIFIED:20250411T183322Z
UID:10000382-1747479600-1747486800@www.shinzenjapanesegarden.org
SUMMARY:Writing Workshop #1 - The Garden as a Story
DESCRIPTION:The Garden as a Story: Writing with Nature’s Wisdom \nThis workshop will explore storytelling techniques by drawing parallels between the elements of a Japanese garden—stones\, water\, trees\, and pathways—and narrative structures. Attendees will create nature-inspired stories that weave together history\, environment\, and personal insight. \nMeet Our Garden Writing Coach – \n​Jackie Heffron Williams is an accomplished educator and writer based in Fresno\, California. She serves as an adjunct instructor at Reedley College\, part of the State Center Community College District\, where she shares her expertise in English and writing. Jackie holds a Masters Degree from California State University\, Fresno\, and is known for her supportive and approachable teaching style. Her students appreciate her dedication to their success and her ability to make learning engaging and accessible \n$25 for Members | $45 for Non-members \nThis workshop is for 16+
URL:https://www.shinzenjapanesegarden.org/event/writing-workshop-1-the-garden-as-a-story/
LOCATION:Shinzen Friendship Garden\, 114 W Audubon Drive\, Fresno\, CA\, 93720\, United States
CATEGORIES:Classes,Garden Events,Special Programs,Workshops
ATTACH;FMTTYPE=image/jpeg:https://www.shinzenjapanesegarden.org/wp-content/uploads/2025/04/Writing-Workshop-The-Garden-as-a-Story.jpg
ORGANIZER;CN="Shinzen Friendship Garden":MAILTO:info@shinzenjapanesegarden.org
END:VEVENT
BEGIN:VEVENT
DTSTART;TZID=UTC:20250515T170000
DTEND;TZID=UTC:20250515T190000
DTSTAMP:20260424T121446
CREATED:20250418T173543Z
LAST-MODIFIED:20250508T172713Z
UID:10000384-1747328400-1747335600@www.shinzenjapanesegarden.org
SUMMARY:Seasons of Verse Poetry Series
DESCRIPTION:Featuring Joseph Voth\, author of “Living with Noise”\, Michelle Patton\, who won the Ernesto Trejo Award for poetry and was a nominee for a Pushcart Prize and Kirk Stone.\nSeasons of Verse is a curated poetry reading series held inside the peaceful landscape of Shinzen Garden\, featuring four unique events that align with the rhythm of the seasons. The series will showcase the vibrant voices of Fresno-area poets and offer one open mic event to welcome emerging and community writers. \nIncluded with Garden Admission \nMeet Our Poets: \n Joseph Voth is the author of Living with Noise\, published by NorthShore Press. His poems have appeared in Virginia Quarterly Review\, Connecticut Review\, South Carolina Review\, ZYZZYVA\, and numerous other journals. He teaches writing courses at Fresno City College. \n Michelle Patton received an MFA in Creative Writing from California State University\, Fresno. She won the Ernesto Trejo Award for poetry in 2003 and was nominated for a Pushcart Prize. Her poems have been published in The Atlanta Review\, Southern Poetry Review\, Calyx\, Zyzzyva\, Prairie Schooner\, Cutbank\, and others. She teaches English at Fresno City College. \n  \n  \n  \n Kirk Stone grew up on the California coast near strawberry fields and the ocean. He received an MFA in Creative Writing from Fresno State where he facilitated small writing groups for many years. He recently retired to Visalia to live among citrus and grapevines.
URL:https://www.shinzenjapanesegarden.org/event/seasons-of-verse-poetry-series/
LOCATION:Shinzen Friendship Garden\, 114 W Audubon Drive\, Fresno\, CA\, 93720\, United States
CATEGORIES:Family Fun,Garden Events,Special Programs
ATTACH;FMTTYPE=image/jpeg:https://www.shinzenjapanesegarden.org/wp-content/uploads/2025/04/Seasons-of-Verse.jpg
ORGANIZER;CN="Shinzen Friendship Garden":MAILTO:info@shinzenjapanesegarden.org
END:VEVENT
BEGIN:VEVENT
DTSTART;TZID=UTC:20250510T130000
DTEND;TZID=UTC:20250510T143000
DTSTAMP:20260424T121446
CREATED:20250402T204040Z
LAST-MODIFIED:20250402T204040Z
UID:10000376-1746882000-1746887400@www.shinzenjapanesegarden.org
SUMMARY:Free Garden Tour on May 10 at 1 pm
DESCRIPTION:Join us for a free docent-led tour on select weekends\, providing visitors with an in-depth exploration of its serene landscapes and cultural significance.  During the tour\, our knowledgeable docents guide guests through the garden’s features\, including the Clark Bonsai Collection\, stroll gardens\, traditional architecture\, and tea houses\, offering insights into Japanese culture and garden design. \nThe tours are approximately 1.5 hours long and free to the public with paid garden entry. \n 
URL:https://www.shinzenjapanesegarden.org/event/free-garden-tour-may-10-1pm/
LOCATION:Shinzen Friendship Garden\, 114 W Audubon Drive\, Fresno\, CA\, 93720\, United States
CATEGORIES:Family Fun,Garden Events,Special Programs
ATTACH;FMTTYPE=image/jpeg:https://www.shinzenjapanesegarden.org/wp-content/uploads/2025/04/Garden-Tour-May-10-2.jpg
ORGANIZER;CN="Shinzen Friendship Garden":MAILTO:info@shinzenjapanesegarden.org
END:VEVENT
BEGIN:VEVENT
DTSTART;TZID=UTC:20250510T110000
DTEND;TZID=UTC:20250510T123000
DTSTAMP:20260424T121446
CREATED:20250402T203320Z
LAST-MODIFIED:20250402T204141Z
UID:10000374-1746874800-1746880200@www.shinzenjapanesegarden.org
SUMMARY:Free Garden Tour May 10 at 11am
DESCRIPTION:Join us for a free docent-led tour on select weekends\, providing visitors with an in-depth exploration of its serene landscapes and cultural significance.  During the tour\, our knowledgeable docents guide guests through the garden’s features\, including the Clark Bonsai Collection\, stroll gardens\, traditional architecture\, and tea houses\, offering insights into Japanese culture and garden design. \nThe tours are approximately 1.5 hours long and free to the public with paid garden entry. \n 
URL:https://www.shinzenjapanesegarden.org/event/free-garden-tour-may-10-11am/
LOCATION:Shinzen Friendship Garden\, 114 W Audubon Drive\, Fresno\, CA\, 93720\, United States
CATEGORIES:Family Fun,Garden Events,Special Programs
ATTACH;FMTTYPE=image/jpeg:https://www.shinzenjapanesegarden.org/wp-content/uploads/2025/04/Garden-Tour-May-10-2.jpg
ORGANIZER;CN="Shinzen Friendship Garden":MAILTO:info@shinzenjapanesegarden.org
END:VEVENT
BEGIN:VEVENT
DTSTART;TZID=UTC:20250504T110000
DTEND;TZID=UTC:20250504T150000
DTSTAMP:20260424T121446
CREATED:20250210T184318Z
LAST-MODIFIED:20250306T212925Z
UID:10000240-1746356400-1746370800@www.shinzenjapanesegarden.org
SUMMARY:KODOMO NO HI "Children's Day"
DESCRIPTION:Celebrate Japanese Children’s Day at Shinzen Garden\, a fun-filled event honoring the joy and growth of children through traditional arts and crafts! Families are invited to explore Japanese culture with engaging hands-on activities\, including: \n🎨 Origami Creations – Fold and design beautiful paper art.\n☂️ Paper Parasol Painting – Decorate your own colorful parasol. (Parasols will be displayed inside the garden May 12 – 23)\n🎏 Koinobori (Flying Carp/Koi Mini Kites) – Craft and fly vibrant carp streamers\, symbolizing strength and perseverance.\n📖 Kimono-Inspired Bookmarks – Create unique\, decorative bookmarks inspired by traditional kimono patterns.\n✨ And More! \nExperience a day of creativity and cultural discovery in the serene setting of Shinzen Garden. This special event is perfect for families and children of all ages. Come celebrate Children’s Day with us and take home your handmade treasures! 🌿🎏 \nIncluded with Paid Garden Admission
URL:https://www.shinzenjapanesegarden.org/event/kodomo-no-hi-childrens-day/
LOCATION:Shinzen Friendship Garden\, 114 W Audubon Drive\, Fresno\, CA\, 93720\, United States
CATEGORIES:Cultural Demonstrations,Family Fun,Garden Events,Special Programs
ATTACH;FMTTYPE=image/jpeg:https://www.shinzenjapanesegarden.org/wp-content/uploads/2025/02/Childrens-Day.jpg
ORGANIZER;CN="Shinzen Friendship Garden":MAILTO:info@shinzenjapanesegarden.org
END:VEVENT
BEGIN:VEVENT
DTSTART;TZID=UTC:20250503T100000
DTEND;TZID=UTC:20250503T170000
DTSTAMP:20260424T121446
CREATED:20250327T193249Z
LAST-MODIFIED:20250410T200029Z
UID:10000370-1746266400-1746291600@www.shinzenjapanesegarden.org
SUMMARY:World Bonsai Day
DESCRIPTION:FREE with Paid Garden Admission\nExperience the Beauty of BonsaiImmerse yourself in a day filled with exciting activities\, including: \nAn open-air Bonsai Market – Explore unique bonsai trees\, tools\, and accessories.Bonsai Demonstration & Lecture by Julian Tsai – Learn expert techniques from a renowned bonsai artist.Honor Ceremony for Katsumi Kinoshita – Paying tribute to a legacy in bonsai.Silent Auction of Bonsai – Bid on exquisite bonsai creations.Collection Critique by Curator Bob Hilvers – A deep dive into the Clark Bonsai collection.Family Activities – Fun and interactive experiences for all ages. \nWhether you’re a seasoned bonsai enthusiast or new to the art\, World Bonsai Day is the perfect opportunity to connect with nature\, learn from experts\, and celebrate the beauty of miniature trees. \nDAY OF EVENT SCHEDULE\n\n\n\n10:00 am – 5:00 pm\nOpen Air Bonsai Market\n\n\n10:00 am\nFamily Activities\n\n\n10:00 am – 2:30 pm\nSilent Auction\n\n\n10:30 am & 1:30 pm\nCollection Critique with Bob Hilvers\n\n\n10:00 am & 1:00 pm\nBonsai Demonstration with Julian Tsai\n\n\n12:30 pm – 1:00 pm\nHonor Ceremony Katsumi Kinoshita
URL:https://www.shinzenjapanesegarden.org/event/world-bonsai-day/
LOCATION:Clark Bonsai Collection at Shinzen\, 114 W Audubon Drive\, Fresno\, CA\, 93720\, United States
CATEGORIES:Cultural Demonstrations,Family Fun,Garden Events,Special Programs
ATTACH;FMTTYPE=image/jpeg:https://www.shinzenjapanesegarden.org/wp-content/uploads/2025/03/World-Bonsai-Day.jpg
ORGANIZER;CN="Shinzen Friendship Garden":MAILTO:info@shinzenjapanesegarden.org
END:VEVENT
BEGIN:VEVENT
DTSTART;TZID=UTC:20250412T110000
DTEND;TZID=UTC:20250412T123000
DTSTAMP:20260424T121446
CREATED:20250402T202313Z
LAST-MODIFIED:20250409T160509Z
UID:10000372-1744455600-1744461000@www.shinzenjapanesegarden.org
SUMMARY:Free Garden Tour April 12 at 11 am
DESCRIPTION:Join us for a free docent-led tour on select weekends\, providing visitors with an in-depth exploration of its serene landscapes and cultural significance.  During the tour\, our knowledgeable docents guide guests through the garden’s features\, including the Clark Bonsai Collection\, stroll gardens\, traditional architecture\, and tea houses\, offering insights into Japanese culture and garden design. \nThe tours are approximately 1.5 hours long and free to the public with paid garden entry.
URL:https://www.shinzenjapanesegarden.org/event/free-garden-tour-on-april-12-11am/
LOCATION:Shinzen Friendship Garden\, 114 W Audubon Drive\, Fresno\, CA\, 93720\, United States
CATEGORIES:Family Fun,Garden Events,Special Programs
ATTACH;FMTTYPE=image/jpeg:https://www.shinzenjapanesegarden.org/wp-content/uploads/2025/04/Garden-Tour-April-12-1.jpg
ORGANIZER;CN="Shinzen Friendship Garden":MAILTO:info@shinzenjapanesegarden.org
END:VEVENT
END:VCALENDAR