BEGIN:VCALENDAR
VERSION:2.0
PRODID:-//Shinzen Garden - ECPv6.15.20//NONSGML v1.0//EN
CALSCALE:GREGORIAN
METHOD:PUBLISH
X-ORIGINAL-URL:https://www.shinzenjapanesegarden.org
X-WR-CALDESC:Events for Shinzen Garden
REFRESH-INTERVAL;VALUE=DURATION:PT1H
X-Robots-Tag:noindex
X-PUBLISHED-TTL:PT1H
BEGIN:VTIMEZONE
TZID:UTC
BEGIN:STANDARD
TZOFFSETFROM:+0000
TZOFFSETTO:+0000
TZNAME:UTC
DTSTART:20250101T000000
END:STANDARD
END:VTIMEZONE
BEGIN:VEVENT
DTSTART;TZID=UTC:20260221T130000
DTEND;TZID=UTC:20260221T150000
DTSTAMP:20260423T020145
CREATED:20260120T174652Z
LAST-MODIFIED:20260120T174808Z
UID:10000425-1771678800-1771686000@www.shinzenjapanesegarden.org
SUMMARY:Seasons of Stories Book Club Feb Meeting
DESCRIPTION:FEBRUARY 2026 BOOK SELECTION\n\nThe Sailor Who Fell From Grace with the Sea\nby: Hiro Arikawa\nThirteen-year-old Noboru is a member of a gang of highly philosophical teenage boys who reject the tenets of the adult world — to them\, adult life is illusory\, hypocritical\, and sentimental. When Noboru’s widowed mother is romanced by Ryuji\, a sailor\, Noboru is thrilled. He idolizes this rugged man of the sea as a hero. But his admiration soon turns to hatred\, as Ryuji forsakes life onboard the ship for marriage\, rejecting everything Noboru holds sacred. Upset and appalled\, he and his friends respond to this apparent betrayal with a terrible ferocity.\n \n  \n  \n  \n  \nORDER THE BOOK HERE\n  \nSeasons of Stories is a new book club at Shinzen Garden that invites readers to gather in the natural setting of the garden to explore literature inspired by Japanese culture and explore books from Japanese American authors.  We will be diving into a thoughtfully selected book each month and enjoy meaningful conversations surrounded by the beauty of the garden. All are welcome—bring your curiosity and love for stories! \nJoin our online club by scanning the QR Code\n \n 
URL:https://www.shinzenjapanesegarden.org/event/seasons-of-stories-book-club-feb/
LOCATION:Shinzen Friendship Garden\, 114 W Audubon Drive\, Fresno\, CA\, 93720\, United States
CATEGORIES:Garden Events,Special Programs
ATTACH;FMTTYPE=image/jpeg:https://www.shinzenjapanesegarden.org/wp-content/uploads/2026/01/Feb-2026-BookClub.jpg
ORGANIZER;CN="Shinzen Friendship Garden":MAILTO:info@shinzenjapanesegarden.org
END:VEVENT
END:VCALENDAR