BEGIN:VCALENDAR
VERSION:2.0
PRODID:-//Shinzen Garden - ECPv6.15.20//NONSGML v1.0//EN
CALSCALE:GREGORIAN
METHOD:PUBLISH
X-ORIGINAL-URL:https://www.shinzenjapanesegarden.org
X-WR-CALDESC:Events for Shinzen Garden
REFRESH-INTERVAL;VALUE=DURATION:PT1H
X-Robots-Tag:noindex
X-PUBLISHED-TTL:PT1H
BEGIN:VTIMEZONE
TZID:UTC
BEGIN:STANDARD
TZOFFSETFROM:+0000
TZOFFSETTO:+0000
TZNAME:UTC
DTSTART:20250101T000000
END:STANDARD
END:VTIMEZONE
BEGIN:VEVENT
DTSTART;TZID=UTC:20260509T100000
DTEND;TZID=UTC:20260509T120000
DTSTAMP:20260424T151655
CREATED:20260115T224013Z
LAST-MODIFIED:20260115T224013Z
UID:10000422-1778320800-1778328000@www.shinzenjapanesegarden.org
SUMMARY:Kokedama Workshop May
DESCRIPTION:Step into the garden and discover the calming art of Kokedama\, the Japanese technique of creating living “moss balls” that blend nature and design. In this hands-on workshop at Shinzen Garden\, you’ll learn how to shape\, plant\, and wrap your own kokedama while enjoying the serene beauty of the garden around you. Guided by an experienced instructor\, you’ll create a unique\, low-maintenance plant that’s perfect for displaying in your home or gifting to someone special. Whether you’re a seasoned plant lover or a curious beginner\, this workshop offers a peaceful\, creative escape—and a beautiful piece to take home. \nPre-registration is required. \nBlume & Vine \nBlume & Vine was born from the belief that flowers are more than decoration\, they are markers of life\, memory\, and meaning. From celebration to grief\, from the quiet moments in between to the milestones that shape us\, flowers tell our stories when words fall short. \nFounded in Clovis\, California\, Blume & Vine is a modern floral studio dedicated to intentional design\, sustainable practices\, and honest connection. Every arrangement is crafted with care\, using a blend of fresh\, dried\, and locally sourced blooms to reflect the emotion behind the moment. Our shop is inspired by the rhythm of real life a balance of softness and grit\, beauty and imperfection\, bloom and root. We honor the full spectrum of human experience through thoughtful floral design that feels personal\, warm\, and deeply grounded.
URL:https://www.shinzenjapanesegarden.org/event/kokedama-may-workshop/
LOCATION:Shinzen Friendship Garden\, 114 W Audubon Drive\, Fresno\, CA\, 93720\, United States
CATEGORIES:Classes,Cultural Demonstrations,Garden Events,Workshops
ATTACH;FMTTYPE=image/jpeg:https://www.shinzenjapanesegarden.org/wp-content/uploads/2026/01/Kokedama-Workshop-1.jpg
ORGANIZER;CN="Shinzen Friendship Garden":MAILTO:info@shinzenjapanesegarden.org
END:VEVENT
BEGIN:VEVENT
DTSTART;TZID=UTC:20260509T130000
DTEND;TZID=UTC:20260509T150000
DTSTAMP:20260424T151655
CREATED:20260312T002950Z
LAST-MODIFIED:20260312T002950Z
UID:10000446-1778331600-1778338800@www.shinzenjapanesegarden.org
SUMMARY:Petals to Pages Journal Writing Workshop
DESCRIPTION:Petals to Pages: Journal & Mindful Writing \nSlow down\, breathe deeply\, and reconnect with your thoughts through the calming practice of mindful journaling. Set within the peaceful surroundings of Shinzen  Garden\, this workshop invites participants to explore writing as a tool for reflection\, creativity\, and personal awareness. \nThrough guided prompts and gentle mindfulness exercises\, participants will learn how journaling can help capture moments of beauty\, process thoughts\, and cultivate a deeper sense of presence. Drawing inspiration from the garden’s seasonal blooms\, textures\, and tranquil atmosphere\, you’ll be encouraged to observe closely and translate those moments into meaningful written reflections. \nThis workshop is designed for writers of all levels—whether you are an experienced journal keeper or simply curious about using writing as a mindful practice. Participants will spend time writing\, reflecting\, and connecting with the natural environment that makes Shinzen Garden such a special place for contemplation. \nJoin us for a peaceful creative experience where nature inspires the page and every observation becomes a moment of discovery. \nSpace is limited and advance registration is required. Proceeds from this workshop support the preservation and cultural programming of Shinzen Garden. \n\nMeet Your Instructor: \nJackie Williams has an MFA in Creative Nonfiction from Fresno State and has taught English composition\, literature\, and creative writing around the Central Valley since 2010. She currently teaches at Fresno City College and lives in Clovis with her family and many pets. Jackie loves learning new things from cookie decorating to woodworking and looks forward to guiding you through some generative writing exercises in the beautiful backdrop of Shinzen Garden.
URL:https://www.shinzenjapanesegarden.org/event/petals-to-pages-journal-writing-workshop/
LOCATION:Shinzen Friendship Garden\, 114 W Audubon Drive\, Fresno\, CA\, 93720\, United States
CATEGORIES:Classes,Workshops
ATTACH;FMTTYPE=image/jpeg:https://www.shinzenjapanesegarden.org/wp-content/uploads/2026/03/Writing-Workshop-3.jpg
ORGANIZER;CN="Shinzen Friendship Garden":MAILTO:info@shinzenjapanesegarden.org
END:VEVENT
BEGIN:VEVENT
DTSTART;TZID=UTC:20260516T083000
DTEND;TZID=UTC:20260516T120000
DTSTAMP:20260424T151655
CREATED:20260120T184552Z
LAST-MODIFIED:20260120T184552Z
UID:10000434-1778920200-1778932800@www.shinzenjapanesegarden.org
SUMMARY:3rd Saturday Volunteer Day May 16
DESCRIPTION:Join us Saturday\, May 16\, 2026 for a rewarding Volunteer Day at Shinzen Garden! This hands-on event is a wonderful opportunity to connect with nature\, meet like-minded community members\, and contribute to the care and maintenance of this beautiful space. \nVolunteers assist with tasks such as weeding\, pruning\, planting\, and other seasonal projects that help preserve the garden’s tranquility and charm. No prior gardening experience is necessary—our team will provide guidance and tools. \nBring your enthusiasm\, comfortable clothing\, and a spirit of teamwork! Together\, we can ensure Shinzen Garden remains a vibrant sanctuary for all to enjoy. \nWhat to Bring: Closed-toe shoes\, gloves\, water bottle\, and a hat. \nWe look forward to seeing you there!
URL:https://www.shinzenjapanesegarden.org/event/3rd-saturday-volunteer-day-may-16/
LOCATION:Shinzen Friendship Garden\, 114 W Audubon Drive\, Fresno\, CA\, 93720\, United States
CATEGORIES:Volunteer Saturdays
ATTACH;FMTTYPE=image/jpeg:https://www.shinzenjapanesegarden.org/wp-content/uploads/2026/01/May-Volunteer.jpg
ORGANIZER;CN="Shinzen Friendship Garden":MAILTO:info@shinzenjapanesegarden.org
END:VEVENT
BEGIN:VEVENT
DTSTART;TZID=UTC:20260516T110000
DTEND;TZID=UTC:20260516T130000
DTSTAMP:20260424T151655
CREATED:20260114T223925Z
LAST-MODIFIED:20260114T225435Z
UID:10000418-1778929200-1778936400@www.shinzenjapanesegarden.org
SUMMARY:May Botanical Watercolor
DESCRIPTION:Slow down\, look closely\, and let nature guide your brush. In this botanical watercolor class at Shinzen Garden on May 16\, 2026\, participants will explore the delicate beauty of leaves\, flowers\, and seasonal plant life while learning foundational watercolor techniques in a serene garden setting. Whether you’re a beginner or a seasoned artist\, this class offers gentle instruction\, creative freedom\, and plenty of inspiration drawn directly from the garden around you. Come paint\, relax\, and leave with a finished piece that captures a moment of Shinzen’s natural beauty. Supplies included with registration. \nPre-registration is required. \n  \nMeet your instructor: Noelle Correia – Born under a full moon in Scorpio in Fresno\, California\, after spending time tinkering around at her father’s auto repair/welding shop as a child\, Noelle began to create an imaginary world out of carpenter’s chalk drawings of discarded car parts. This world turned the industrial environment of downtown Fresno into a delusional paradise. Noelle left Fresno at eighteen but took her imaginary world with her and continues to process the nuance and grit of everyday cultural collision through fluvial imagery. \nHer creative process begins with color. Noelle is inspired by how the color schemes pop in biodiversity\, such as a poisonous dart frog’s epidermal layers resting on a muted green leaf. The biodiverse thread within her creative practice is that of Botanical Surrealism. She begins her work by thinking about the relationship between emotions and color and allows color theory to drive the outcome. Symbols that represent the feminine mystique and practical magic are a reoccurring thematic backdrop. The process has become a life metaphor in which she works through obstacles\, obtains epiphanies\, and understands herself as a tiny part of a much larger whole. \nShe conveys the beauty and complexities of human nature using texture\, pattern\, and narrative elements throughout her work. Her work has been exhibited in California Galleries and collectives exhibitions\, including Radius Gallery\, The Art Cave\, The Art League of Santa Cruz County\, Pajaro Valley Arts Gallery\, and Arte Americas. Noelle’s work further explores the botanical world through watercolor painting\, paper-cut collage practices\, and encaustic medium. Through wax\, water\, and human narratives of all kinds\, Noelle creates a vibrant play on color and form.
URL:https://www.shinzenjapanesegarden.org/event/may-botanical-watercolor/
LOCATION:Shinzen Friendship Garden\, 114 W Audubon Drive\, Fresno\, CA\, 93720\, United States
CATEGORIES:Classes,Garden Events,Workshops
ATTACH;FMTTYPE=image/jpeg:https://www.shinzenjapanesegarden.org/wp-content/uploads/2026/01/Botanical-Watercolor-2.jpg
ORGANIZER;CN="Shinzen Friendship Garden":MAILTO:info@shinzenjapanesegarden.org
END:VEVENT
BEGIN:VEVENT
DTSTART;TZID=UTC:20260516T130000
DTEND;TZID=UTC:20260516T150000
DTSTAMP:20260424T151655
CREATED:20260120T180652Z
LAST-MODIFIED:20260120T181738Z
UID:10000428-1778936400-1778943600@www.shinzenjapanesegarden.org
SUMMARY:Seasons of Stories Book Club May Meeting
DESCRIPTION:MAY 2026 BOOK SELECTION\n\nHeaven\nby: Mieko Kawakami\n  \n \nWith profound tenderness and sensitivity\, Japanese literary superstar Mieko Kawakami turns her unique gaze onto the causes and effects of violence. Raw but revelatory\, this novel stands as a dazzling confirmation of Kawakami’s standing as one of her country’s most insightful and compelling novelists. \nIn Heaven\, a shy high-school student is subjected to bullying from his classmates and the only person capable of understanding his ordeal is a young classmate who suffers similar treatment at the hands of her tormentors. Each finds in the other a unique sensibility capable of offering not only solace but also a fresh perspective on their predicaments. \n  \n  \n  \n  \nORDER THE BOOK HERE\n  \nSeasons of Stories is a new book club at Shinzen Garden that invites readers to gather in the natural setting of the garden to explore literature inspired by Japanese culture and explore books from Japanese American authors.  We will be diving into a thoughtfully selected book each month and enjoy meaningful conversations surrounded by the beauty of the garden. All are welcome—bring your curiosity and love for stories! \nJoin our online club by scanning the QR Code\n \n 
URL:https://www.shinzenjapanesegarden.org/event/seasons-of-stories-book-club-may-meeting/
LOCATION:Shinzen Friendship Garden\, 114 W Audubon Drive\, Fresno\, CA\, 93720\, United States
CATEGORIES:Garden Events,Special Programs
ATTACH;FMTTYPE=image/jpeg:https://www.shinzenjapanesegarden.org/wp-content/uploads/2026/01/May-2026-BookClub.jpg
ORGANIZER;CN="Shinzen Friendship Garden":MAILTO:info@shinzenjapanesegarden.org
END:VEVENT
BEGIN:VEVENT
DTSTART;TZID=UTC:20260517T110000
DTEND;TZID=UTC:20260517T123000
DTSTAMP:20260424T151655
CREATED:20260408T212050Z
LAST-MODIFIED:20260408T212207Z
UID:10000451-1779015600-1779021000@www.shinzenjapanesegarden.org
SUMMARY:Japanese Tea Ceremony Demonstration on May 17 - 11:00 am Seating
DESCRIPTION:Experience a Traditional Japanese Tea Ceremony at Shinzen Garden \nImmerse yourself in the tranquil beauty of Shinzen Garden as we present a traditional Japanese Tea Ceremony on Sunday\, May 17\, 2026 at 11:00 am.  This unique cultural experience offers guests an opportunity to witness the graceful art of tea preparation and savor matcha in a serene setting. \nJoin us for an unforgettable journey into the elegance and mindfulness of Japanese tradition. Space is limited\, so reserve your seat today! \nTicket holders are invited to observe the peace and quietude of this traditional Japanese Tea Ceremony and enjoy a cup of green tea and a Japanese sweet. \n*THIS TICKET IS FOR THE 11:00 am DEMONSTRATION \nThe tea ceremony (called cha-no-yu\, sadō\, or chadō in Japanese) incorporates strict etiquette\, which serves as the foundation of its choreographed movements and gives the experience its overall form and aesthetic. Participants are meant to involve all of the senses and experience a serene feeling of spiritual discipline\, harmony and tranquility. There are many schools of tea ceremony\, but here at Shinzen Garden\, guests will experience the Omote-Senke style. The Omote-Senke school is one of three san-senke schools whose founding tea master is Sen no Rikyū. Each school has subtle stylistic differences and varying techniques\, but the Omote-Senke school is distinguished by its tea whisking style and the thin foam created by this technique. \nOur tea ceremony will be performed by Terumi Takahashi\, trained by the School of Omeote-Senke in Kyoto\, Japan. \n  \nEach registration directly supports the care\, preservation\, and cultural programming of Shinzen Garden\, helping this special place continue to thrive.
URL:https://www.shinzenjapanesegarden.org/event/japanese-tea-ceremony-demo-may-17/
LOCATION:Shinzen Friendship Garden\, 114 W Audubon Drive\, Fresno\, CA\, 93720\, United States
CATEGORIES:Cultural Demonstrations,Garden Events,Special Programs,Tea Ceremony
ATTACH;FMTTYPE=image/jpeg:https://www.shinzenjapanesegarden.org/wp-content/uploads/2026/04/Japanese-Tea-Ceremony-March-17-11am.jpg
ORGANIZER;CN="Shinzen Friendship Garden":MAILTO:info@shinzenjapanesegarden.org
END:VEVENT
BEGIN:VEVENT
DTSTART;TZID=UTC:20260517T133000
DTEND;TZID=UTC:20260517T150000
DTSTAMP:20260424T151655
CREATED:20260408T212756Z
LAST-MODIFIED:20260408T221107Z
UID:10000452-1779024600-1779030000@www.shinzenjapanesegarden.org
SUMMARY:Japanese Tea Ceremony Demonstration on May 17 - 1:30 Seating
DESCRIPTION:Experience a Traditional Japanese Tea Ceremony at Shinzen Garden \nImmerse yourself in the tranquil beauty of Shinzen Garden as we present a traditional Japanese Tea Ceremony on Sunday\, May 17\, 2026 at 1:30 pm.  This unique cultural experience offers guests an opportunity to witness the graceful art of tea preparation and savor matcha in a serene setting. \nJoin us for an unforgettable journey into the elegance and mindfulness of Japanese tradition. Space is limited\, so reserve your seat today! \nTicket holders are invited to observe the peace and quietude of this traditional Japanese Tea Ceremony and enjoy a cup of green tea and a Japanese sweet. \n*THIS TICKET IS FOR THE 1:30 pm DEMONSTRATION \nThe tea ceremony (called cha-no-yu\, sadō\, or chadō in Japanese) incorporates strict etiquette\, which serves as the foundation of its choreographed movements and gives the experience its overall form and aesthetic. Participants are meant to involve all of the senses and experience a serene feeling of spiritual discipline\, harmony and tranquility. There are many schools of tea ceremony\, but here at Shinzen Garden\, guests will experience the Omote-Senke style. The Omote-Senke school is one of three san-senke schools whose founding tea master is Sen no Rikyū. Each school has subtle stylistic differences and varying techniques\, but the Omote-Senke school is distinguished by its tea whisking style and the thin foam created by this technique. \nOur tea ceremony will be performed by Terumi Takahashi\, trained by the School of Omeote-Senke in Kyoto\, Japan. \n  \nEach registration directly supports the care\, preservation\, and cultural programming of Shinzen Garden\, helping this special place continue to thrive.
URL:https://www.shinzenjapanesegarden.org/event/japanese-tea-ceremony-demo-may17/
LOCATION:Shinzen Friendship Garden\, 114 W Audubon Drive\, Fresno\, CA\, 93720\, United States
CATEGORIES:Cultural Demonstrations,Garden Events,Special Programs,Tea Ceremony
ATTACH;FMTTYPE=image/jpeg:https://www.shinzenjapanesegarden.org/wp-content/uploads/2026/04/Japanese-Tea-Ceremony-March-17-1-30.jpg
ORGANIZER;CN="Shinzen Friendship Garden":MAILTO:info@shinzenjapanesegarden.org
END:VEVENT
END:VCALENDAR