BEGIN:VCALENDAR
VERSION:2.0
PRODID:-//Shinzen Garden - ECPv6.15.20//NONSGML v1.0//EN
CALSCALE:GREGORIAN
METHOD:PUBLISH
X-ORIGINAL-URL:https://www.shinzenjapanesegarden.org
X-WR-CALDESC:Events for Shinzen Garden
REFRESH-INTERVAL;VALUE=DURATION:PT1H
X-Robots-Tag:noindex
X-PUBLISHED-TTL:PT1H
BEGIN:VTIMEZONE
TZID:UTC
BEGIN:STANDARD
TZOFFSETFROM:+0000
TZOFFSETTO:+0000
TZNAME:UTC
DTSTART:20250101T000000
END:STANDARD
END:VTIMEZONE
BEGIN:VEVENT
DTSTART;TZID=UTC:20260718T083000
DTEND;TZID=UTC:20260718T120000
DTSTAMP:20260424T195305
CREATED:20260120T185417Z
LAST-MODIFIED:20260120T185417Z
UID:10000436-1784363400-1784376000@www.shinzenjapanesegarden.org
SUMMARY:3rd Saturday Volunteer Day July 18
DESCRIPTION:Join us Saturday\, July 18\, 2026 for a rewarding Volunteer Day at Shinzen Garden! This hands-on event is a wonderful opportunity to connect with nature\, meet like-minded community members\, and contribute to the care and maintenance of this beautiful space. \nVolunteers assist with tasks such as weeding\, pruning\, planting\, and other seasonal projects that help preserve the garden’s tranquility and charm. No prior gardening experience is necessary—our team will provide guidance and tools. \nBring your enthusiasm\, comfortable clothing\, and a spirit of teamwork! Together\, we can ensure Shinzen Garden remains a vibrant sanctuary for all to enjoy. \nWhat to Bring: Closed-toe shoes\, gloves\, water bottle\, and a hat. \nWe look forward to seeing you there!
URL:https://www.shinzenjapanesegarden.org/event/3rd-saturday-volunteer-day-july-18/
LOCATION:Shinzen Friendship Garden\, 114 W Audubon Drive\, Fresno\, CA\, 93720\, United States
CATEGORIES:Volunteer Saturdays
ATTACH;FMTTYPE=image/jpeg:https://www.shinzenjapanesegarden.org/wp-content/uploads/2026/01/July-Volunteer-Day.jpg
ORGANIZER;CN="Shinzen Friendship Garden":MAILTO:info@shinzenjapanesegarden.org
END:VEVENT
BEGIN:VEVENT
DTSTART;TZID=UTC:20260718T130000
DTEND;TZID=UTC:20260718T150000
DTSTAMP:20260424T195305
CREATED:20260120T181431Z
LAST-MODIFIED:20260120T181638Z
UID:10000430-1784379600-1784386800@www.shinzenjapanesegarden.org
SUMMARY:Seasons of Stories Book Club July Meeting
DESCRIPTION:JULY 2026 BOOK SELECTION\n\nKitchen\nby: Banana Yoshimoto\n  \n \nWith the publication of Kitchen\, the dazzling English-language debut that is still her best-loved book\, the literary world realized that Yoshimoto was a young writer of enduring talent whose work has quickly earned a place among the best of contemporary Japanese literature. Kitchen is an enchantingly original book that juxtaposes two tales about mothers\, love\, tragedy\, and the power of the kitchen and home in the lives of a pair of free-spirited young women in contemporary Japan. Mikage\, the heroine\, is an orphan raised by her grandmother\, who has passed away. Grieving\, Mikage is taken in by her friend Yoichi and his mother (who is really his cross-dressing father) Eriko. As the three of them form an improvised family that soon weathers its own tragic losses\, Yoshimoto spins a lovely\, evocative tale with the kitchen and the comforts of home at its heart. \nIn a whimsical style that recalls the early Marguerite Duras\, “Kitchen” and its companion story\, “Moonlight Shadow\,” are elegant tales whose seeming simplicity is the ruse of a very special writer whose voice echoes in the mind and the soul. \n  \n  \n  \n  \nORDER THE BOOK HERE\n  \nSeasons of Stories is a new book club at Shinzen Garden that invites readers to gather in the natural setting of the garden to explore literature inspired by Japanese culture and explore books from Japanese American authors.  We will be diving into a thoughtfully selected book each month and enjoy meaningful conversations surrounded by the beauty of the garden. All are welcome—bring your curiosity and love for stories! \nJoin our online club by scanning the QR Code\n \n 
URL:https://www.shinzenjapanesegarden.org/event/seasons-of-stories-book-club-july/
LOCATION:Shinzen Friendship Garden\, 114 W Audubon Drive\, Fresno\, CA\, 93720\, United States
CATEGORIES:Garden Events,Special Programs
ATTACH;FMTTYPE=image/jpeg:https://www.shinzenjapanesegarden.org/wp-content/uploads/2026/01/July-2026-BookClub.jpg
ORGANIZER;CN="Shinzen Friendship Garden":MAILTO:info@shinzenjapanesegarden.org
END:VEVENT
END:VCALENDAR