BEGIN:VCALENDAR
VERSION:2.0
PRODID:-//Shinzen Garden - ECPv6.15.20//NONSGML v1.0//EN
CALSCALE:GREGORIAN
METHOD:PUBLISH
X-ORIGINAL-URL:https://www.shinzenjapanesegarden.org
X-WR-CALDESC:Events for Shinzen Garden
REFRESH-INTERVAL;VALUE=DURATION:PT1H
X-Robots-Tag:noindex
X-PUBLISHED-TTL:PT1H
BEGIN:VTIMEZONE
TZID:UTC
BEGIN:STANDARD
TZOFFSETFROM:+0000
TZOFFSETTO:+0000
TZNAME:UTC
DTSTART:20240101T000000
END:STANDARD
END:VTIMEZONE
BEGIN:VEVENT
DTSTART;TZID=UTC:20250920T083000
DTEND;TZID=UTC:20250920T120000
DTSTAMP:20260423T021305
CREATED:20250107T223941Z
LAST-MODIFIED:20250107T223941Z
UID:10000232-1758357000-1758369600@www.shinzenjapanesegarden.org
SUMMARY:3rd Saturday Volunteer Day - September 20
DESCRIPTION:Join us September 20\, 2025 for a rewarding Volunteer Day at Shinzen Garden! This hands-on event is a wonderful opportunity to connect with nature\, meet like-minded community members\, and contribute to the care and maintenance of this beautiful space. \nVolunteers assist with tasks such as weeding\, pruning\, planting\, and other seasonal projects that help preserve the garden’s tranquility and charm. No prior gardening experience is necessary—our team will provide guidance and tools. \nBring your enthusiasm\, comfortable clothing\, and a spirit of teamwork! Together\, we can ensure Shinzen Garden remains a vibrant sanctuary for all to enjoy. \nWhat to Bring: Closed-toe shoes\, gloves\, water bottle\, and a hat. \nWe look forward to seeing you there!
URL:https://www.shinzenjapanesegarden.org/event/3rd-saturday-volunteer-day-sept-20-2025/
LOCATION:Shinzen Friendship Garden\, 114 W Audubon Drive\, Fresno\, CA\, 93720\, United States
CATEGORIES:Volunteer Saturdays
ATTACH;FMTTYPE=image/jpeg:https://www.shinzenjapanesegarden.org/wp-content/uploads/2025/01/Volunteer-Saturday-September-20.jpg
ORGANIZER;CN="Shinzen Friendship Garden":MAILTO:info@shinzenjapanesegarden.org
END:VEVENT
BEGIN:VEVENT
DTSTART;TZID=UTC:20250920T130000
DTEND;TZID=UTC:20250920T150000
DTSTAMP:20260423T021305
CREATED:20250820T201539Z
LAST-MODIFIED:20250820T201539Z
UID:10000403-1758373200-1758380400@www.shinzenjapanesegarden.org
SUMMARY:Seasons of Stories Book Club Sept 20 Meeting #4
DESCRIPTION:SEPTEMBER 2025 BOOK SELECTION\n\nThe Miracles of the Namiya General Store\nby: Keigo Higashino\n\nFrom exactly midnight until daybreak\, the Namiya General Store advice box will be reopening for one night only. When three delinquents hole up in an abandoned general store after their most recent robbery\, to their great surprise\, a letter drops through the mail slot in the store’s shutter. \nThis seemingly simple request for advice sets the trio on a journey of discovery as\, over the course of a single night\, they step into the role of the kindhearted former shopkeeper who devoted his waning years to offering thoughtful counsel to his correspondents. \nThrough the lens of time\, they share insight with those seeking guidance\, and by morning\, none of their lives will ever be the same. \nBy acclaimed author Keigo Higashino\, The Miracles of the Namiya General Store is a work that has touched the hearts of readers around the world. \n  \n  \n  \nORDER THE BOOK HERE\n  \nSeasons of Stories is a new book club at Shinzen Garden that invites readers to gather in the natural setting of the garden to explore literature inspired by Japanese culture and explore books from Japanese American authors.  We will be diving into a thoughtfully selected book each month and enjoy meaningful conversations surrounded by the beauty of the garden. All are welcome—bring your curiosity and love for stories! \nJoin our online club by scanning the QR Code
URL:https://www.shinzenjapanesegarden.org/event/seasons-of-stories-book-club-sept-20-meeting/
CATEGORIES:Garden Events,Special Programs
ATTACH;FMTTYPE=image/png:https://www.shinzenjapanesegarden.org/wp-content/uploads/2025/05/Seasons-of-Stories-Bookclub-website-scaled.png
END:VEVENT
END:VCALENDAR