BEGIN:VCALENDAR
VERSION:2.0
PRODID:-//Shinzen Garden - ECPv6.15.20//NONSGML v1.0//EN
CALSCALE:GREGORIAN
METHOD:PUBLISH
X-WR-CALNAME:Shinzen Garden
X-ORIGINAL-URL:https://www.shinzenjapanesegarden.org
X-WR-CALDESC:Events for Shinzen Garden
REFRESH-INTERVAL;VALUE=DURATION:PT1H
X-Robots-Tag:noindex
X-PUBLISHED-TTL:PT1H
BEGIN:VTIMEZONE
TZID:UTC
BEGIN:STANDARD
TZOFFSETFROM:+0000
TZOFFSETTO:+0000
TZNAME:UTC
DTSTART:20240101T000000
END:STANDARD
END:VTIMEZONE
BEGIN:VEVENT
DTSTART;TZID=UTC:20251004T100000
DTEND;TZID=UTC:20251004T120000
DTSTAMP:20260424T151525
CREATED:20250210T203600Z
LAST-MODIFIED:20251002T160630Z
UID:10000247-1759572000-1759579200@www.shinzenjapanesegarden.org
SUMMARY:Akifuku Sentei Fall Thinning of Pines
DESCRIPTION:As the seasons change\, so do the needs of your pine trees. Join us for Akifuku Sentei (秋ふく剪定)\, a specialized workshop on the fall thinning of pines\, where you’ll learn how to selectively remove needles and small branches to improve airflow\, reduce disease risk\, and enhance branch structure for future growth. \n 
URL:https://www.shinzenjapanesegarden.org/event/akifuku-sentei-fall-thinning-pines/
LOCATION:Shinzen Friendship Garden\, 114 W Audubon Drive\, Fresno\, CA\, 93720\, United States
CATEGORIES:Classes,Workshops
ATTACH;FMTTYPE=image/jpeg:https://www.shinzenjapanesegarden.org/wp-content/uploads/2025/02/Fall-Thinning-of-Pine-Trees-1.jpg
ORGANIZER;CN="Shinzen Friendship Garden":MAILTO:info@shinzenjapanesegarden.org
END:VEVENT
END:VCALENDAR