BEGIN:VCALENDAR
VERSION:2.0
PRODID:-//Shinzen Garden - ECPv6.15.20//NONSGML v1.0//EN
CALSCALE:GREGORIAN
METHOD:PUBLISH
X-ORIGINAL-URL:https://www.shinzenjapanesegarden.org
X-WR-CALDESC:Events for Shinzen Garden
REFRESH-INTERVAL;VALUE=DURATION:PT1H
X-Robots-Tag:noindex
X-PUBLISHED-TTL:PT1H
BEGIN:VTIMEZONE
TZID:UTC
BEGIN:STANDARD
TZOFFSETFROM:+0000
TZOFFSETTO:+0000
TZNAME:UTC
DTSTART:20250101T000000
END:STANDARD
END:VTIMEZONE
BEGIN:VEVENT
DTSTART;TZID=UTC:20261010T100000
DTEND;TZID=UTC:20261010T120000
DTSTAMP:20260425T141740
CREATED:20260312T164635Z
LAST-MODIFIED:20260312T164635Z
UID:10000448-1791626400-1791633600@www.shinzenjapanesegarden.org
SUMMARY:Moments Between Leaves Writing Workshop
DESCRIPTION:Moments Between Leaves: Writing Small\, Powerful Pieces \nSometimes the most meaningful writing comes in small moments. In this reflective workshop at Shinzen Garden\, participants will explore how brief pieces of writing—short reflections\, micro-essays\, poetic prose\, and snapshots of experience—can capture powerful ideas and emotions in just a few carefully chosen words. \nInspired by the quiet spaces\, shifting light\, and natural details of the garden\, this workshop invites writers to slow down and notice the moments that often go unseen. Through guided prompts and creative exercises\, participants will practice writing short\, vivid pieces that focus on observation\, memory\, and feeling. \nWriters of all levels are welcome. Whether you are new to writing or looking to refine your ability to express ideas concisely\, this workshop offers a supportive space to experiment\, write\, and reflect. Participants will leave with a collection of small pieces and new tools for capturing meaningful moments on the page. \nJoin us for a creative experience where even the smallest observation can inspire something lasting. \nSpace is limited and advance registration is required. Proceeds from this workshop support the preservation and cultural programming of Shinzen Garden. \nMeet Your Instructor: \nJackie Williams has an MFA in Creative Nonfiction from Fresno State and has taught English composition\, literature\, and creative writing around the Central Valley since 2010. She currently teaches at Fresno City College and lives in Clovis with her family and many pets. Jackie loves learning new things from cookie decorating to woodworking and looks forward to guiding you through some generative writing exercises in the beautiful backdrop of Shinzen Garden.
URL:https://www.shinzenjapanesegarden.org/event/moments-between-leaves-writing-workshop/
LOCATION:Shinzen Friendship Garden\, 114 W Audubon Drive\, Fresno\, CA\, 93720\, United States
CATEGORIES:Classes,Workshops
ATTACH;FMTTYPE=image/jpeg:https://www.shinzenjapanesegarden.org/wp-content/uploads/2026/03/Writing-Workshop-5.jpg
ORGANIZER;CN="Shinzen Friendship Garden":MAILTO:info@shinzenjapanesegarden.org
END:VEVENT
END:VCALENDAR